BEGIN:VCALENDAR
VERSION:2.0
PRODID:-//Wells Local  History Group - ECPv6.15.13//NONSGML v1.0//EN
CALSCALE:GREGORIAN
METHOD:PUBLISH
X-ORIGINAL-URL:https://www.wellsnorfolkhistory.co.uk
X-WR-CALDESC:Events for Wells Local  History Group
REFRESH-INTERVAL;VALUE=DURATION:PT1H
X-Robots-Tag:noindex
X-PUBLISHED-TTL:PT1H
BEGIN:VTIMEZONE
TZID:Europe/London
BEGIN:DAYLIGHT
TZOFFSETFROM:+0000
TZOFFSETTO:+0100
TZNAME:BST
DTSTART:20240331T010000
END:DAYLIGHT
BEGIN:STANDARD
TZOFFSETFROM:+0100
TZOFFSETTO:+0000
TZNAME:GMT
DTSTART:20241027T010000
END:STANDARD
BEGIN:DAYLIGHT
TZOFFSETFROM:+0000
TZOFFSETTO:+0100
TZNAME:BST
DTSTART:20250330T010000
END:DAYLIGHT
BEGIN:STANDARD
TZOFFSETFROM:+0100
TZOFFSETTO:+0000
TZNAME:GMT
DTSTART:20251026T010000
END:STANDARD
BEGIN:DAYLIGHT
TZOFFSETFROM:+0000
TZOFFSETTO:+0100
TZNAME:BST
DTSTART:20260329T010000
END:DAYLIGHT
BEGIN:STANDARD
TZOFFSETFROM:+0100
TZOFFSETTO:+0000
TZNAME:GMT
DTSTART:20261025T010000
END:STANDARD
END:VTIMEZONE
BEGIN:VEVENT
DTSTART;TZID=Europe/London:20251203T143000
DTEND;TZID=Europe/London:20251203T143000
DTSTAMP:20260421T211823
CREATED:20250607T074520Z
LAST-MODIFIED:20250612T181252Z
UID:1043-1764772200-1764772200@www.wellsnorfolkhistory.co.uk
SUMMARY:‘Researching the history of your house’ – Sheree Leeds
DESCRIPTION:Sheree Leeds is a retired archivist and member of the Bracondale Residents’ Association. Bracondale embraces one of the oldest entrances into the city of Norwich and has a wealth of historic houses.  It abuts County Hall and the Norfolk Record Office where many records of these properties are held. \n\n\n\nNon-members are welcome – tickets are £5.00 and are available from the Maltings Box Office. \n\n\n\n\n\n\nVenue – Wells Maltings\, Staithe Street\, Wells-next-the-Sea\, NR23 1AN
URL:https://www.wellsnorfolkhistory.co.uk/event/researching-the-history-of-your-house-sheree-leeds/
LOCATION:Norfolk
ATTACH;FMTTYPE=image/jpeg:https://www.wellsnorfolkhistory.co.uk/wp-content/uploads/2025/06/wells-Dec-25.jpg
END:VEVENT
END:VCALENDAR